BEGIN:VCALENDAR
VERSION:2.0
PRODID:DIA MUNDIAL DA CRIANÇA
X-WR-CALNAME:DIA MUNDIAL DA CRIANÇA
X-WR-TIMEZONE:Europe/Lisbon
X-PUBLISHED-TTL:P1W
BEGIN:VTIMEZONE
TZID:Europe/Lisbon
X-LIC-LOCATION:Europe/Lisbon
END:VTIMEZONE
BEGIN:VEVENT
UID:69e8b39016afc
DTSTART;VALUE=DATE:20240603
SEQUENCE:0
TRANSP:OPAQUE
DTEND;VALUE=DATE:20240604
SUMMARY:DIA MUNDIAL DA CRIANÇA
CLASS:PUBLIC
DESCRIPTION:DIA MUNDIAL DA CRIANÇA 2024Promovido no âmbito do PAEC 2023/2
 024\, e que congregará todas as escolas da Freguesia no centro cívico da
  freguesia.
X-MICROSOFT-CDO-ALLDAYEVENT:TRUE
DTSTAMP:20260422T114000Z
END:VEVENT
END:VCALENDAR